Package: flowDensity Version: 1.42.0 Command: /home/biocbuild/bbs-3.21-bioc/R/bin/R CMD build --keep-empty-dirs --no-resave-data flowDensity StartedAt: 2025-10-15 17:32:30 -0400 (Wed, 15 Oct 2025) EndedAt: 2025-10-15 17:32:32 -0400 (Wed, 15 Oct 2025) EllapsedTime: 2.0 seconds RetCode: 0 Status: OK PackageFile: flowDensity_1.42.0.tar.gz PackageFileSize: 4.295 MiB