Package: flowDensity Version: 1.42.0 Command: rm -rf flowDensity.buildbin-libdir && mkdir flowDensity.buildbin-libdir && /Users/biocbuild/BBS/utils/build-universal.sh flowDensity_1.42.0.tar.gz /Library/Frameworks/R.framework/Resources/bin/R flowDensity.buildbin-libdir StartedAt: 2025-04-22 00:45:45 -0400 (Tue, 22 Apr 2025) EndedAt: 2025-04-22 00:46:04 -0400 (Tue, 22 Apr 2025) EllapsedTime: 18.6 seconds RetCode: 0 Status: OK PackageFile: flowDensity_1.42.0.tgz PackageFileSize: 4.488 MiB