Package: flowDensity Version: 1.42.0 Command: /home/biocbuild/R/R/bin/R CMD INSTALL flowDensity StartedAt: 2025-09-25 20:26:47 -0000 (Thu, 25 Sep 2025) EndedAt: 2025-09-25 20:27:01 -0000 (Thu, 25 Sep 2025) EllapsedTime: 13.8 seconds RetCode: 0 Status: OK