Package: flowDensity Version: 1.42.0 Command: /home/biocbuild/R/R/bin/R CMD build --keep-empty-dirs --no-resave-data flowDensity StartedAt: 2025-09-26 01:38:51 -0000 (Fri, 26 Sep 2025) EndedAt: 2025-09-26 01:38:53 -0000 (Fri, 26 Sep 2025) EllapsedTime: 2.0 seconds RetCode: 0 Status: OK PackageFile: flowDensity_1.42.0.tar.gz PackageFileSize: 4.295 MiB