Package: flowDensity Version: 1.42.0 Command: /Library/Frameworks/R.framework/Resources/bin/R CMD INSTALL flowDensity StartedAt: 2025-10-13 15:37:44 -0400 (Mon, 13 Oct 2025) EndedAt: 2025-10-13 15:37:56 -0400 (Mon, 13 Oct 2025) EllapsedTime: 11.5 seconds RetCode: 0 Status: OK