Package: flowCyBar Version: 1.46.0 Command: /home/biocbuild/bbs-3.22-bioc/R/bin/R CMD INSTALL flowCyBar StartedAt: 2025-11-11 15:10:33 -0500 (Tue, 11 Nov 2025) EndedAt: 2025-11-11 15:11:13 -0500 (Tue, 11 Nov 2025) EllapsedTime: 39.9 seconds RetCode: 0 Status: OK