Package: flowCyBar Version: 1.46.0 Command: /home/biocbuild/bbs-3.22-bioc/R/bin/R CMD check --install=check:flowCyBar.install-out.txt --library=/home/biocbuild/bbs-3.22-bioc/R/site-library --timings flowCyBar_1.46.0.tar.gz StartedAt: 2025-11-14 23:49:50 -0500 (Fri, 14 Nov 2025) EndedAt: 2025-11-14 23:50:41 -0500 (Fri, 14 Nov 2025) EllapsedTime: 51.0 seconds RetCode: 0 Status: OK CheckDir: flowCyBar.Rcheck Warnings: 0