Package: flowCyBar Version: 1.46.0 Command: /Library/Frameworks/R.framework/Resources/bin/R CMD INSTALL flowCyBar StartedAt: 2025-10-31 15:17:54 -0400 (Fri, 31 Oct 2025) EndedAt: 2025-10-31 15:19:01 -0400 (Fri, 31 Oct 2025) EllapsedTime: 67.0 seconds RetCode: 0 Status: OK