Package: flowCyBar Version: 1.46.0 Command: /Library/Frameworks/R.framework/Resources/bin/R CMD build --keep-empty-dirs --no-resave-data flowCyBar StartedAt: 2025-10-31 17:07:15 -0400 (Fri, 31 Oct 2025) EndedAt: 2025-10-31 17:07:38 -0400 (Fri, 31 Oct 2025) EllapsedTime: 22.9 seconds RetCode: 0 Status: OK PackageFile: flowCyBar_1.46.0.tar.gz PackageFileSize: 507.5 KiB