Package: flowCyBar Version: 1.46.0 Command: rm -rf flowCyBar.buildbin-libdir && mkdir flowCyBar.buildbin-libdir && /Users/biocbuild/BBS/utils/build-universal.sh flowCyBar_1.46.0.tar.gz /Library/Frameworks/R.framework/Resources/bin/R flowCyBar.buildbin-libdir StartedAt: 2025-11-03 01:41:03 -0500 (Mon, 03 Nov 2025) EndedAt: 2025-11-03 01:41:14 -0500 (Mon, 03 Nov 2025) EllapsedTime: 11.6 seconds RetCode: 0 Status: OK PackageFile: flowCyBar_1.46.0.tgz PackageFileSize: 532.7 KiB