Package: flowCyBar Version: 1.44.0 Command: /home/biocbuild/R/R/bin/R CMD INSTALL flowCyBar StartedAt: 2025-10-13 20:17:12 -0000 (Mon, 13 Oct 2025) EndedAt: 2025-10-13 20:18:02 -0000 (Mon, 13 Oct 2025) EllapsedTime: 50.2 seconds RetCode: 0 Status: OK