Package: flowCut Version: 1.20.0 Command: /home/biocbuild/bbs-3.22-bioc/R/bin/R CMD check --install=check:flowCut.install-out.txt --library=/home/biocbuild/bbs-3.22-bioc/R/site-library --timings flowCut_1.20.0.tar.gz StartedAt: 2025-11-18 04:03:02 -0500 (Tue, 18 Nov 2025) EndedAt: 2025-11-18 04:05:51 -0500 (Tue, 18 Nov 2025) EllapsedTime: 169.1 seconds RetCode: 0 Status: OK CheckDir: flowCut.Rcheck Warnings: 0