Package: flowCut Version: 1.20.0 Command: /Library/Frameworks/R.framework/Resources/bin/R CMD build --keep-empty-dirs --no-resave-data flowCut StartedAt: 2025-11-03 17:03:13 -0500 (Mon, 03 Nov 2025) EndedAt: 2025-11-03 17:03:48 -0500 (Mon, 03 Nov 2025) EllapsedTime: 34.3 seconds RetCode: 0 Status: OK PackageFile: flowCut_1.20.0.tar.gz PackageFileSize: 8.383 MiB