Package: flowCore Version: 2.22.0 Command: /home/biocbuild/R/R/bin/R CMD INSTALL flowCore StartedAt: 2025-11-13 21:18:56 -0000 (Thu, 13 Nov 2025) EndedAt: 2025-11-13 21:20:06 -0000 (Thu, 13 Nov 2025) EllapsedTime: 70.5 seconds RetCode: 0 Status: OK