Package: flowCore Version: 2.22.0 Command: /home/biocbuild/R/R/bin/R CMD build --keep-empty-dirs --no-resave-data flowCore StartedAt: 2025-11-14 01:51:56 -0000 (Fri, 14 Nov 2025) EndedAt: 2025-11-14 01:53:46 -0000 (Fri, 14 Nov 2025) EllapsedTime: 110.0 seconds RetCode: 0 Status: OK PackageFile: flowCore_2.22.0.tar.gz PackageFileSize: 7.44 MiB