Package: flowCore Version: 2.20.0 Command: /Library/Frameworks/R.framework/Resources/bin/R CMD INSTALL flowCore StartedAt: 2025-10-06 15:20:35 -0400 (Mon, 06 Oct 2025) EndedAt: 2025-10-06 15:22:04 -0400 (Mon, 06 Oct 2025) EllapsedTime: 88.3 seconds RetCode: 0 Status: OK