Package: flowCore Version: 2.20.0 Command: /Library/Frameworks/R.framework/Resources/bin/R CMD build --keep-empty-dirs --no-resave-data flowCore StartedAt: 2025-10-06 19:04:00 -0400 (Mon, 06 Oct 2025) EndedAt: 2025-10-06 19:06:56 -0400 (Mon, 06 Oct 2025) EllapsedTime: 175.9 seconds RetCode: 0 Status: OK PackageFile: flowCore_2.20.0.tar.gz PackageFileSize: 7.446 MiB