Package: flowCore Version: 2.20.0 Command: rm -rf flowCore.buildbin-libdir && mkdir flowCore.buildbin-libdir && /Users/biocbuild/BBS/utils/build-universal.sh flowCore_2.20.0.tar.gz /Library/Frameworks/R.framework/Resources/bin/R flowCore.buildbin-libdir StartedAt: 2025-10-07 13:11:00 -0400 (Tue, 07 Oct 2025) EndedAt: 2025-10-07 13:13:18 -0400 (Tue, 07 Oct 2025) EllapsedTime: 137.8 seconds RetCode: 0 Status: OK PackageFile: flowCore_2.20.0.tgz PackageFileSize: 8.177 MiB