Package: flowCore Version: 2.20.0 Command: /home/biocbuild/R/R/bin/R CMD INSTALL flowCore StartedAt: 2025-09-25 20:25:15 -0000 (Thu, 25 Sep 2025) EndedAt: 2025-09-25 20:26:21 -0000 (Thu, 25 Sep 2025) EllapsedTime: 65.7 seconds RetCode: 0 Status: OK