Package: flowClust Version: 3.48.0 Command: /home/biocbuild/bbs-3.22-bioc/R/bin/R CMD INSTALL flowClust StartedAt: 2025-11-11 15:19:12 -0500 (Tue, 11 Nov 2025) EndedAt: 2025-11-11 15:20:47 -0500 (Tue, 11 Nov 2025) EllapsedTime: 95.0 seconds RetCode: 0 Status: OK