Package: flowClust Version: 3.48.0 Command: /Library/Frameworks/R.framework/Resources/bin/R CMD INSTALL flowClust StartedAt: 2025-10-31 15:24:55 -0400 (Fri, 31 Oct 2025) EndedAt: 2025-10-31 15:28:43 -0400 (Fri, 31 Oct 2025) EllapsedTime: 228.0 seconds RetCode: 0 Status: OK