Package: flowClust Version: 3.48.0 Command: /Library/Frameworks/R.framework/Resources/bin/R CMD build --keep-empty-dirs --no-resave-data flowClust StartedAt: 2025-10-31 17:06:56 -0400 (Fri, 31 Oct 2025) EndedAt: 2025-10-31 17:10:41 -0400 (Fri, 31 Oct 2025) EllapsedTime: 225.0 seconds RetCode: 0 Status: OK PackageFile: flowClust_3.48.0.tar.gz PackageFileSize: 1.765 MiB