Package: flowClust Version: 3.48.0 Command: rm -rf flowClust.buildbin-libdir && mkdir flowClust.buildbin-libdir && /Users/biocbuild/BBS/utils/build-universal.sh flowClust_3.48.0.tar.gz /Library/Frameworks/R.framework/Resources/bin/R flowClust.buildbin-libdir StartedAt: 2025-11-01 01:34:29 -0400 (Sat, 01 Nov 2025) EndedAt: 2025-11-01 01:38:49 -0400 (Sat, 01 Nov 2025) EllapsedTime: 259.8 seconds RetCode: 0 Status: OK PackageFile: flowClust_3.48.0.tgz PackageFileSize: 1.539 MiB