Package: flowClust Version: 3.46.0 Command: /home/biocbuild/R/R/bin/R CMD INSTALL flowClust StartedAt: 2025-10-13 20:26:10 -0000 (Mon, 13 Oct 2025) EndedAt: 2025-10-13 20:28:26 -0000 (Mon, 13 Oct 2025) EllapsedTime: 135.7 seconds RetCode: 0 Status: OK