Package: flowClust Version: 3.46.0 Command: /home/biocbuild/R/R/bin/R CMD build --keep-empty-dirs --no-resave-data flowClust StartedAt: 2025-10-14 00:54:17 -0000 (Tue, 14 Oct 2025) EndedAt: 2025-10-14 00:56:47 -0000 (Tue, 14 Oct 2025) EllapsedTime: 150.0 seconds RetCode: 0 Status: OK PackageFile: flowClust_3.46.0.tar.gz PackageFileSize: 1.699 MiB