Package: flowClust Version: 3.46.0 Command: /Library/Frameworks/R.framework/Resources/bin/R CMD INSTALL flowClust StartedAt: 2025-04-21 15:10:19 -0400 (Mon, 21 Apr 2025) EndedAt: 2025-04-21 15:11:16 -0400 (Mon, 21 Apr 2025) EllapsedTime: 56.5 seconds RetCode: 0 Status: OK