Package: flowClust Version: 3.46.0 Command: /Library/Frameworks/R.framework/Resources/bin/R CMD build --keep-empty-dirs --no-resave-data flowClust StartedAt: 2025-04-21 16:21:26 -0400 (Mon, 21 Apr 2025) EndedAt: 2025-04-21 16:22:31 -0400 (Mon, 21 Apr 2025) EllapsedTime: 64.8 seconds RetCode: 0 Status: OK PackageFile: flowClust_3.46.0.tar.gz PackageFileSize: 1.766 MiB