Package: flowClust Version: 3.46.0 Command: rm -rf flowClust.buildbin-libdir && mkdir flowClust.buildbin-libdir && /Users/biocbuild/BBS/utils/build-universal.sh flowClust_3.46.0.tar.gz /Library/Frameworks/R.framework/Resources/bin/R flowClust.buildbin-libdir StartedAt: 2025-04-21 22:35:24 -0400 (Mon, 21 Apr 2025) EndedAt: 2025-04-21 22:36:42 -0400 (Mon, 21 Apr 2025) EllapsedTime: 77.7 seconds RetCode: 0 Status: OK PackageFile: flowClust_3.46.0.tgz PackageFileSize: 1.363 MiB