Package: flowClust Version: 3.48.0 Maintainer: Greg Finak , Mike Jiang MaintainerEmail: mike at ozette.ai git_url: https://git.bioconductor.org/packages/flowClust git_branch: RELEASE_3_22 git_last_commit: b1ac58b git_last_commit_date: 2025-10-29 10:00:22 -0400 (Wed, 29 Oct 2025)