Package: flowClean Version: 1.48.0 Command: /home/biocbuild/bbs-3.22-bioc/R/bin/R CMD INSTALL flowClean StartedAt: 2025-11-11 15:17:54 -0500 (Tue, 11 Nov 2025) EndedAt: 2025-11-11 15:18:02 -0500 (Tue, 11 Nov 2025) EllapsedTime: 7.6 seconds RetCode: 0 Status: OK