Package: flowClean Version: 1.48.0 Command: /home/biocbuild/bbs-3.22-bioc/R/bin/R CMD check --install=check:flowClean.install-out.txt --library=/home/biocbuild/bbs-3.22-bioc/R/site-library --timings flowClean_1.48.0.tar.gz StartedAt: 2025-11-11 23:46:12 -0500 (Tue, 11 Nov 2025) EndedAt: 2025-11-11 23:47:34 -0500 (Tue, 11 Nov 2025) EllapsedTime: 82.1 seconds RetCode: 0 Status: WARNINGS CheckDir: flowClean.Rcheck Warnings: 3