Package: flowClean Version: 1.46.0 Command: /home/biocbuild/bbs-3.21-bioc/R/bin/R CMD build --keep-empty-dirs --no-resave-data flowClean StartedAt: 2025-10-15 17:32:00 -0400 (Wed, 15 Oct 2025) EndedAt: 2025-10-15 17:32:29 -0400 (Wed, 15 Oct 2025) EllapsedTime: 29.0 seconds RetCode: 0 Status: OK PackageFile: flowClean_1.46.0.tar.gz PackageFileSize: 4.716 MiB