Package: flowClean Version: 1.46.0 Command: /Library/Frameworks/R.framework/Resources/bin/R CMD INSTALL flowClean StartedAt: 2025-04-21 15:07:08 -0400 (Mon, 21 Apr 2025) EndedAt: 2025-04-21 15:07:11 -0400 (Mon, 21 Apr 2025) EllapsedTime: 3.5 seconds RetCode: 0 Status: OK