Package: flowClean Version: 1.46.0 Command: /Library/Frameworks/R.framework/Resources/bin/R CMD INSTALL flowClean StartedAt: 2025-10-13 15:37:03 -0400 (Mon, 13 Oct 2025) EndedAt: 2025-10-13 15:37:12 -0400 (Mon, 13 Oct 2025) EllapsedTime: 9.5 seconds RetCode: 0 Status: OK