Package: flowClean Version: 1.46.0 Command: rm -rf flowClean.buildbin-libdir && mkdir flowClean.buildbin-libdir && /Users/biocbuild/BBS/utils/build-universal.sh flowClean_1.46.0.tar.gz /Library/Frameworks/R.framework/Resources/bin/R flowClean.buildbin-libdir StartedAt: 2025-10-15 18:31:00 -0400 (Wed, 15 Oct 2025) EndedAt: 2025-10-15 18:31:10 -0400 (Wed, 15 Oct 2025) EllapsedTime: 10.0 seconds RetCode: 0 Status: OK PackageFile: flowClean_1.46.0.tgz PackageFileSize: 4.96 MiB