Package: flowCHIC Version: 1.44.0 Command: /home/biocbuild/bbs-3.22-bioc/R/bin/R CMD INSTALL flowCHIC StartedAt: 2025-11-13 15:14:04 -0500 (Thu, 13 Nov 2025) EndedAt: 2025-11-13 15:14:17 -0500 (Thu, 13 Nov 2025) EllapsedTime: 13.0 seconds RetCode: 0 Status: OK