Package: flowCHIC Version: 1.44.0 Command: /home/biocbuild/bbs-3.22-bioc/R/bin/R CMD check --install=check:flowCHIC.install-out.txt --library=/home/biocbuild/bbs-3.22-bioc/R/site-library --timings flowCHIC_1.44.0.tar.gz StartedAt: 2025-11-14 23:49:28 -0500 (Fri, 14 Nov 2025) EndedAt: 2025-11-14 23:51:24 -0500 (Fri, 14 Nov 2025) EllapsedTime: 115.2 seconds RetCode: 0 Status: OK CheckDir: flowCHIC.Rcheck Warnings: 0