Package: flowCHIC Version: 1.44.0 Command: /Library/Frameworks/R.framework/Resources/bin/R CMD build --keep-empty-dirs --no-resave-data flowCHIC StartedAt: 2025-11-03 17:02:52 -0500 (Mon, 03 Nov 2025) EndedAt: 2025-11-03 17:03:37 -0500 (Mon, 03 Nov 2025) EllapsedTime: 45.8 seconds RetCode: 0 Status: OK PackageFile: flowCHIC_1.44.0.tar.gz PackageFileSize: 3.24 MiB