Package: flowCHIC Version: 1.42.0 Command: /home/biocbuild/R/R/bin/R CMD INSTALL flowCHIC StartedAt: 2025-10-09 20:26:22 -0000 (Thu, 09 Oct 2025) EndedAt: 2025-10-09 20:26:40 -0000 (Thu, 09 Oct 2025) EllapsedTime: 18.4 seconds RetCode: 0 Status: OK