Package: flowCHIC Version: 1.42.0 Command: /home/biocbuild/R/R/bin/R CMD build --keep-empty-dirs --no-resave-data flowCHIC StartedAt: 2025-10-10 00:53:05 -0000 (Fri, 10 Oct 2025) EndedAt: 2025-10-10 00:53:49 -0000 (Fri, 10 Oct 2025) EllapsedTime: 44.0 seconds RetCode: 0 Status: OK PackageFile: flowCHIC_1.42.0.tar.gz PackageFileSize: 3.235 MiB