Package: flowBin Version: 1.44.0 Command: /home/biocbuild/bbs-3.21-bioc/R/bin/R CMD INSTALL flowBin StartedAt: 2025-10-15 15:13:30 -0400 (Wed, 15 Oct 2025) EndedAt: 2025-10-15 15:13:40 -0400 (Wed, 15 Oct 2025) EllapsedTime: 9.7 seconds RetCode: 0 Status: OK