Package: flowBin Version: 1.46.0 Command: /Library/Frameworks/R.framework/Resources/bin/R CMD build --keep-empty-dirs --no-resave-data flowBin StartedAt: 2025-10-31 17:06:45 -0400 (Fri, 31 Oct 2025) EndedAt: 2025-10-31 17:07:15 -0400 (Fri, 31 Oct 2025) EllapsedTime: 29.8 seconds RetCode: 0 Status: OK PackageFile: flowBin_1.46.0.tar.gz PackageFileSize: 575 KiB