Package: flowBin Version: 1.46.0 Command: rm -rf flowBin.buildbin-libdir && mkdir flowBin.buildbin-libdir && /Users/biocbuild/BBS/utils/build-universal.sh flowBin_1.46.0.tar.gz /Library/Frameworks/R.framework/Resources/bin/R flowBin.buildbin-libdir StartedAt: 2025-11-01 01:34:26 -0400 (Sat, 01 Nov 2025) EndedAt: 2025-11-01 01:34:44 -0400 (Sat, 01 Nov 2025) EllapsedTime: 18.5 seconds RetCode: 0 Status: OK PackageFile: flowBin_1.46.0.tgz PackageFileSize: 840.4 KiB