Package: flowBin Version: 1.46.0 Maintainer: Kieran O'Neill MaintainerEmail: koneill at bccrc.ca git_url: https://git.bioconductor.org/packages/flowBin git_branch: RELEASE_3_22 git_last_commit: f38d785 git_last_commit_date: 2025-10-29 10:17:38 -0400 (Wed, 29 Oct 2025)