Package: flowBeads Version: 1.48.0 Command: /home/biocbuild/bbs-3.22-bioc/R/bin/R CMD INSTALL flowBeads StartedAt: 2025-11-05 15:45:58 -0500 (Wed, 05 Nov 2025) EndedAt: 2025-11-05 15:46:07 -0500 (Wed, 05 Nov 2025) EllapsedTime: 8.6 seconds RetCode: 0 Status: OK