Package: flowBeads Version: 1.48.0 Command: /home/biocbuild/bbs-3.22-bioc/R/bin/R CMD build --keep-empty-dirs --no-resave-data --md5 flowBeads StartedAt: 2025-11-05 17:48:01 -0500 (Wed, 05 Nov 2025) EndedAt: 2025-11-05 17:48:16 -0500 (Wed, 05 Nov 2025) EllapsedTime: 15.0 seconds RetCode: 0 Status: OK PackageFile: flowBeads_1.48.0.tar.gz PackageFileSize: 979.9 KiB