Package: flowAI Version: 1.40.0 Command: /home/biocbuild/R/R/bin/R CMD INSTALL flowAI StartedAt: 2025-11-13 21:20:17 -0000 (Thu, 13 Nov 2025) EndedAt: 2025-11-13 21:20:35 -0000 (Thu, 13 Nov 2025) EllapsedTime: 17.6 seconds RetCode: 0 Status: OK