Package: flowAI Version: 1.40.0 Command: /home/biocbuild/R/R/bin/R CMD build --keep-empty-dirs --no-resave-data flowAI StartedAt: 2025-11-14 01:50:46 -0000 (Fri, 14 Nov 2025) EndedAt: 2025-11-14 01:51:07 -0000 (Fri, 14 Nov 2025) EllapsedTime: 21.0 seconds RetCode: 0 Status: OK PackageFile: flowAI_1.40.0.tar.gz PackageFileSize: 3.81 MiB