Package: flowAI Version: 1.40.0 Command: /home/biocbuild/bbs-3.22-bioc/R/bin/R CMD INSTALL flowAI StartedAt: 2025-11-13 15:14:10 -0500 (Thu, 13 Nov 2025) EndedAt: 2025-11-13 15:14:21 -0500 (Thu, 13 Nov 2025) EllapsedTime: 10.7 seconds RetCode: 0 Status: OK