Package: flowAI Version: 1.40.0 Command: /home/biocbuild/bbs-3.22-bioc/R/bin/R CMD check --install=check:flowAI.install-out.txt --library=/home/biocbuild/bbs-3.22-bioc/R/site-library --timings flowAI_1.40.0.tar.gz StartedAt: 2025-11-13 23:46:45 -0500 (Thu, 13 Nov 2025) EndedAt: 2025-11-13 23:48:01 -0500 (Thu, 13 Nov 2025) EllapsedTime: 76.1 seconds RetCode: 0 Status: OK CheckDir: flowAI.Rcheck Warnings: 0